BEGIN:VCALENDAR
VERSION:2.0
PRODID:-//Frédérique Bruyas - ECPv6.15.18//NONSGML v1.0//EN
CALSCALE:GREGORIAN
METHOD:PUBLISH
X-ORIGINAL-URL:https://bruyas.net
X-WR-CALDESC:Évènements pour Frédérique Bruyas
REFRESH-INTERVAL;VALUE=DURATION:PT1H
X-Robots-Tag:noindex
X-PUBLISHED-TTL:PT1H
BEGIN:VTIMEZONE
TZID:Europe/Paris
BEGIN:DAYLIGHT
TZOFFSETFROM:+0100
TZOFFSETTO:+0200
TZNAME:CEST
DTSTART:20210328T010000
END:DAYLIGHT
BEGIN:STANDARD
TZOFFSETFROM:+0200
TZOFFSETTO:+0100
TZNAME:CET
DTSTART:20211031T010000
END:STANDARD
BEGIN:DAYLIGHT
TZOFFSETFROM:+0100
TZOFFSETTO:+0200
TZNAME:CEST
DTSTART:20220327T010000
END:DAYLIGHT
BEGIN:STANDARD
TZOFFSETFROM:+0200
TZOFFSETTO:+0100
TZNAME:CET
DTSTART:20221030T010000
END:STANDARD
BEGIN:DAYLIGHT
TZOFFSETFROM:+0100
TZOFFSETTO:+0200
TZNAME:CEST
DTSTART:20230326T010000
END:DAYLIGHT
BEGIN:STANDARD
TZOFFSETFROM:+0200
TZOFFSETTO:+0100
TZNAME:CET
DTSTART:20231029T010000
END:STANDARD
END:VTIMEZONE
BEGIN:VEVENT
DTSTART;TZID=Europe/Paris:20220719T150000
DTEND;TZID=Europe/Paris:20220719T160000
DTSTAMP:20260423T031109
CREATED:20220626T165559Z
LAST-MODIFIED:20220626T170757Z
UID:2053-1658242800-1658246400@bruyas.net
SUMMARY:LES AVENTURES DE TOM SAWYER ET HUCKLEBERRY FINN
DESCRIPTION:Dans le cadre de Partir en livre la grande fête du livre pour la jeunesse. \nFrédérique Bruyas\, Lecture\nRené Miller\, Chant et guitare blues  \nCela se passe en Amérique au 19e siècle. Les deux amis jouent à la chasse au trésor et imaginent des aventures incroyables. Au fond de chacun d’eux\, il y a une soif insatiable de liberté et d’émancipation. Le roman de Mark Twain nous raconte comment Tom et Huck\, à hauteur d’enfants\, participent à l’affranchissement de Jim\, l’esclave noir de Miss Watson.\nPour accompagner la voix de Frédérique Bruyas\, René Miller mélange le jazz\, le blues\, le gospel\, le dixieland et même la pop music avec une émotion et une énergie tout droit sorties de Bourbon Street. \nDès 8 ans.\nDurée : 1h.\nEn partenariat avec la ville de Merville-Franceville-Plage\, la médiathèque de Dives/Mer\, l’Epic Space et la ville de Villers/Mer.\nEntrée libre.
URL:https://bruyas.net/evenement/les-aventures-de-tom-sawyer-et-huckleberry-finn-6/
LOCATION:KIOSQUE (PLACE DE LA PLAGE)\, MERVILLE-FRANCEVILLE-PLAGE\, 14810\, France
CATEGORIES:Lecture-concert jeunesse
END:VEVENT
BEGIN:VEVENT
DTSTART;TZID=Europe/Paris:20220721T143000
DTEND;TZID=Europe/Paris:20220721T153000
DTSTAMP:20260423T031109
CREATED:20220626T170058Z
LAST-MODIFIED:20220626T170734Z
UID:2056-1658413800-1658417400@bruyas.net
SUMMARY:LES AVENTURES DE TOM SAWYER ET HUCKLEBERRY FINN
DESCRIPTION:Dans le cadre de Partir en livre la grande fête du livre pour la jeunesse. \nFrédérique Bruyas\, Lecture\nRené Miller\, Chant et guitare blues  \nCela se passe en Amérique au 19e siècle. Les deux amis jouent à la chasse au trésor et imaginent des aventures incroyables. Au fond de chacun d’eux\, il y a une soif insatiable de liberté et d’émancipation. Le roman de Mark Twain nous raconte comment Tom et Huck\, à hauteur d’enfants\, participent à l’affranchissement de Jim\, l’esclave noir de Miss Watson.\nPour accompagner la voix de Frédérique Bruyas\, René Miller mélange le jazz\, le blues\, le gospel\, le dixieland et même la pop music avec une émotion et une énergie tout droit sorties de Bourbon Street. \nDès 8 ans.\nDurée : 1h.\nEn partenariat avec la ville de Merville-Franceville-Plage\, la médiathèque de Dives/Mer\, l’Epic Space et la ville de Villers/Mer.\nEntrée libre
URL:https://bruyas.net/evenement/les-aventures-de-tom-sawyer-et-huckleberry-finn-7/
LOCATION:COUR ECOLE COLLEVILLE\, 14 Rue Général de Gaulle\, DIVES-SUR-MER\, 14160\, France
CATEGORIES:Lecture-concert jeunesse
END:VEVENT
BEGIN:VEVENT
DTSTART;TZID=Europe/Paris:20220722T150000
DTEND;TZID=Europe/Paris:20220722T160000
DTSTAMP:20260423T031109
CREATED:20220626T170551Z
LAST-MODIFIED:20220626T170551Z
UID:2059-1658502000-1658505600@bruyas.net
SUMMARY:LES AVENTURES DE TOM SAWYER ET HUCKLEBERRY FINN
DESCRIPTION:Dans le cadre de Partir en livre la grande fête du livre pour la jeunesse. \nFrédérique Bruyas\, Lecture\nRené Miller\, Chant et guitare blues  \nCela se passe en Amérique au 19e siècle. Les deux amis jouent à la chasse au trésor et imaginent des aventures incroyables. Au fond de chacun d’eux\, il y a une soif insatiable de liberté et d’émancipation. Le roman de Mark Twain nous raconte comment Tom et Huck\, à hauteur d’enfants\, participent à l’affranchissement de Jim\, l’esclave noir de Miss Watson.\nPour accompagner la voix de Frédérique Bruyas\, René Miller mélange le jazz\, le blues\, le gospel\, le dixieland et même la pop music avec une émotion et une énergie tout droit sorties de Bourbon Street. \nDès 8 ans.\nDurée : 1h.\nEn partenariat avec la ville de Merville-Franceville-Plage\, la médiathèque de Dives/Mer\, l’Epic Space et la ville de Villers/Mer.\nEntrée libre
URL:https://bruyas.net/evenement/les-aventures-de-tom-sawyer-et-huckleberry-finn-8/
LOCATION:SALLE PANORAMIQUE CASINO\, Pl. du Lieutenant Fernand Fanneau\, VILLERS-SUR-MER\, 14640\, France
CATEGORIES:Lecture-concert jeunesse
END:VEVENT
END:VCALENDAR