BEGIN:VCALENDAR
VERSION:2.0
PRODID:-//Frédérique Bruyas - ECPv6.15.18//NONSGML v1.0//EN
CALSCALE:GREGORIAN
METHOD:PUBLISH
X-ORIGINAL-URL:https://bruyas.net
X-WR-CALDESC:Évènements pour Frédérique Bruyas
REFRESH-INTERVAL;VALUE=DURATION:PT1H
X-Robots-Tag:noindex
X-PUBLISHED-TTL:PT1H
BEGIN:VTIMEZONE
TZID:Europe/Paris
BEGIN:DAYLIGHT
TZOFFSETFROM:+0100
TZOFFSETTO:+0200
TZNAME:CEST
DTSTART:20240331T010000
END:DAYLIGHT
BEGIN:STANDARD
TZOFFSETFROM:+0200
TZOFFSETTO:+0100
TZNAME:CET
DTSTART:20241027T010000
END:STANDARD
BEGIN:DAYLIGHT
TZOFFSETFROM:+0100
TZOFFSETTO:+0200
TZNAME:CEST
DTSTART:20250330T010000
END:DAYLIGHT
BEGIN:STANDARD
TZOFFSETFROM:+0200
TZOFFSETTO:+0100
TZNAME:CET
DTSTART:20251026T010000
END:STANDARD
BEGIN:DAYLIGHT
TZOFFSETFROM:+0100
TZOFFSETTO:+0200
TZNAME:CEST
DTSTART:20260329T010000
END:DAYLIGHT
BEGIN:STANDARD
TZOFFSETFROM:+0200
TZOFFSETTO:+0100
TZNAME:CET
DTSTART:20261025T010000
END:STANDARD
END:VTIMEZONE
BEGIN:VEVENT
DTSTART;TZID=Europe/Paris:20250819T210000
DTEND;TZID=Europe/Paris:20250819T220000
DTSTAMP:20260422T134654
CREATED:20250524T100516Z
LAST-MODIFIED:20250524T132059Z
UID:3816-1755637200-1755640800@bruyas.net
SUMMARY:SPACE FANTASY/L'ÂGE D'OR DE LA SF
DESCRIPTION:Dans le cadre de la 24e édition des Rencontres d’été théâtre & lecture en Normandie\nThème de cet été 2025 « IMAGINE »\n« Imaginer\, c’est hausser le réel d’un ton. » Gaston Bachelard\, L’Air et les Songes \nFrédérique Bruyas lecture – Pierrejean Gaucher guitare électrique\nTextes de Ray Bradbury\, Fredric Brown\, Alain Damasio\, Aldous Huxley\, Ursula Le Guin\, …\nMusique création pour guitare électrique de Pierrejean Gaucher \nQue d’intuitions chez ces écrivains dont l’humour le dispute au tragique d’un monde que l’homme s’évertue à rendre invivable.\nLanceurs d’alertes toutes littéraires\, Ray Bradbury et Alain Damasio fustigent le tout technologique quand seul Flapjack l’âne de Fredric Brown est en mesure de sauver le monde.\nAldous Huxley imagine une caste traumatisée à dessein par la nature et les livres quand Ursula Le Guin comprend que la forêt pourrait être notre ultime recours.\nChacun et de manière parfaitement originale nous enjoint à préserver les liens qui nous relient à la Terre Mère. \nTarif A-B.
URL:https://bruyas.net/evenement/space-fantasy/
LOCATION:PETIT THÉÂTRE\, 10 Boulevard de Saint Philbert\, HOULGATE\, 14510\, France
CATEGORIES:Lecture-concert
END:VEVENT
END:VCALENDAR