BEGIN:VCALENDAR
VERSION:2.0
PRODID:-//Frédérique Bruyas - ECPv6.15.18//NONSGML v1.0//EN
CALSCALE:GREGORIAN
METHOD:PUBLISH
X-ORIGINAL-URL:https://bruyas.net
X-WR-CALDESC:Évènements pour Frédérique Bruyas
REFRESH-INTERVAL;VALUE=DURATION:PT1H
X-Robots-Tag:noindex
X-PUBLISHED-TTL:PT1H
BEGIN:VTIMEZONE
TZID:Europe/Paris
BEGIN:DAYLIGHT
TZOFFSETFROM:+0100
TZOFFSETTO:+0200
TZNAME:CEST
DTSTART:20240331T010000
END:DAYLIGHT
BEGIN:STANDARD
TZOFFSETFROM:+0200
TZOFFSETTO:+0100
TZNAME:CET
DTSTART:20241027T010000
END:STANDARD
BEGIN:DAYLIGHT
TZOFFSETFROM:+0100
TZOFFSETTO:+0200
TZNAME:CEST
DTSTART:20250330T010000
END:DAYLIGHT
BEGIN:STANDARD
TZOFFSETFROM:+0200
TZOFFSETTO:+0100
TZNAME:CET
DTSTART:20251026T010000
END:STANDARD
BEGIN:DAYLIGHT
TZOFFSETFROM:+0100
TZOFFSETTO:+0200
TZNAME:CEST
DTSTART:20260329T010000
END:DAYLIGHT
BEGIN:STANDARD
TZOFFSETFROM:+0200
TZOFFSETTO:+0100
TZNAME:CET
DTSTART:20261025T010000
END:STANDARD
END:VTIMEZONE
BEGIN:VEVENT
DTSTART;TZID=Europe/Paris:20250926T203000
DTEND;TZID=Europe/Paris:20250926T220000
DTSTAMP:20260422T121744
CREATED:20250814T185347Z
LAST-MODIFIED:20250814T185347Z
UID:4310-1758918600-1758924000@bruyas.net
SUMMARY:ROUSSE OU LES BEAUX HABITANTS DE L'UNIVERS
DESCRIPTION:Lecture-concert du roman « Rousse ou Les beaux habitants de l’univers » de Denis Infante (Editions Tristram/2024)\nDans le cadre du Festival MOTS ET NOTES BLEUS\nLittérature & Jazz\nUn rendez-vous régulier\, pour fêter la créativité de deux langues en complicité – le jazz et la littérature – repoussant les limites de l’attendu jusqu’à la rencontre de l’inouï. Écrivains\, musiciens et conteurs malaxent la matière des mots comme la matière sonore\, pour notre plus grand plaisir ! \nFrédérique Bruyas\, montage et lecture\nNicolas Naudet\, création musicale et clarinette basse\nEn présence de l’auteur \nDenis Infante donne la parole à Rousse\, jeune renarde intrépide. Poussée par la sècheresse hors de son bois natal\, elle se lance dans un voyage vers l’inconnu. Dans ce monde hostile et merveilleux d’où l’espèce humaine a disparu\, l’amitié sera son alliée la plus sûre.\nNous traverserons cette fable en voix et en musique avec la détermination joyeuse de ce « bel habitant de l’univers » en marche et en devenir. \nL’exergue\, emprunté à Jean Giono\, dit tout de l’ambition poétique et métaphysique de ce roman splendide:  » Dans tous les livres actuels on donne à mon avis une trop grande place aux êtres mesquins et l’on néglige de nous faire percevoir le halètement des beaux habitants de l’univers.  » \nCréation proposée par les Écritures contemporaines du Réseau des médiathèques de SQY en partenariat avec la Ville de Magny-les-Hameaux\nRestauration sur place proposée dès 19h par les Amis de l’Estaminet.\nTout public dès 12 ans\nGratuit\, réservation conseillée sur kiosq.sqy.fr ou sur e-médiathèque.sqy.fr\nRenseignements au 01 30 23 44 28 ou reservation@magny-les-hameaux.fr
URL:https://bruyas.net/evenement/rousse-ou-les-beaux-habitants-de-lunivers/
LOCATION:L’ESTAMINET\, Esplanade Gérard Philipe\, Quartier du Buisson\, MAGNY-LES-HAMEAUX\, 78114\, France
CATEGORIES:Lecture-concert
END:VEVENT
END:VCALENDAR