BEGIN:VCALENDAR
VERSION:2.0
PRODID:-//Frédérique Bruyas - ECPv6.15.18//NONSGML v1.0//EN
CALSCALE:GREGORIAN
METHOD:PUBLISH
X-WR-CALNAME:Frédérique Bruyas
X-ORIGINAL-URL:https://bruyas.net
X-WR-CALDESC:Évènements pour Frédérique Bruyas
REFRESH-INTERVAL;VALUE=DURATION:PT1H
X-Robots-Tag:noindex
X-PUBLISHED-TTL:PT1H
BEGIN:VTIMEZONE
TZID:Europe/Paris
BEGIN:DAYLIGHT
TZOFFSETFROM:+0100
TZOFFSETTO:+0200
TZNAME:CEST
DTSTART:20220327T010000
END:DAYLIGHT
BEGIN:STANDARD
TZOFFSETFROM:+0200
TZOFFSETTO:+0100
TZNAME:CET
DTSTART:20221030T010000
END:STANDARD
BEGIN:DAYLIGHT
TZOFFSETFROM:+0100
TZOFFSETTO:+0200
TZNAME:CEST
DTSTART:20230326T010000
END:DAYLIGHT
BEGIN:STANDARD
TZOFFSETFROM:+0200
TZOFFSETTO:+0100
TZNAME:CET
DTSTART:20231029T010000
END:STANDARD
BEGIN:DAYLIGHT
TZOFFSETFROM:+0100
TZOFFSETTO:+0200
TZNAME:CEST
DTSTART:20240331T010000
END:DAYLIGHT
BEGIN:STANDARD
TZOFFSETFROM:+0200
TZOFFSETTO:+0100
TZNAME:CET
DTSTART:20241027T010000
END:STANDARD
END:VTIMEZONE
BEGIN:VEVENT
DTSTART;TZID=Europe/Paris:20230121T203000
DTEND;TZID=Europe/Paris:20230121T213000
DTSTAMP:20260425T235255
CREATED:20221229T092558Z
LAST-MODIFIED:20221229T093034Z
UID:2253-1674333000-1674336600@bruyas.net
SUMMARY:VAMPIRES!
DESCRIPTION:Frédérique Bruyas\, lecture \nDe Dracula à Mr Koberman ou de Carmilla à Lucie\, la figure du vampire prend les allures de femmes irrésistibles ou d’hommes inquiétants. Bram Stoker et Sheridan Le Fanu\, grands classiques du genre côtoieront le temps d’une lecture terrifique des auteurs moins attendus comme Ray Bradbury\, maître du fantastique ou Sarah K. l’auteure d’une anthologie vampirique.  \nEntrée libre dans la limite des places disponibles.\nDès 12 ans.
URL:https://bruyas.net/evenement/vampires/
LOCATION:MEDIATHEQUE DE VANVES\, 1 Avenue Guy Môquet\, VANVES\, 92170\, France
CATEGORIES:lecture-scénique
END:VEVENT
END:VCALENDAR