BEGIN:VCALENDAR
VERSION:2.0
PRODID:-//Frédérique Bruyas - ECPv6.15.18//NONSGML v1.0//EN
CALSCALE:GREGORIAN
METHOD:PUBLISH
X-ORIGINAL-URL:https://bruyas.net
X-WR-CALDESC:Évènements pour Frédérique Bruyas
REFRESH-INTERVAL;VALUE=DURATION:PT1H
X-Robots-Tag:noindex
X-PUBLISHED-TTL:PT1H
BEGIN:VTIMEZONE
TZID:Europe/Paris
BEGIN:DAYLIGHT
TZOFFSETFROM:+0100
TZOFFSETTO:+0200
TZNAME:CEST
DTSTART:20230326T010000
END:DAYLIGHT
BEGIN:STANDARD
TZOFFSETFROM:+0200
TZOFFSETTO:+0100
TZNAME:CET
DTSTART:20231029T010000
END:STANDARD
BEGIN:DAYLIGHT
TZOFFSETFROM:+0100
TZOFFSETTO:+0200
TZNAME:CEST
DTSTART:20240331T010000
END:DAYLIGHT
BEGIN:STANDARD
TZOFFSETFROM:+0200
TZOFFSETTO:+0100
TZNAME:CET
DTSTART:20241027T010000
END:STANDARD
BEGIN:DAYLIGHT
TZOFFSETFROM:+0100
TZOFFSETTO:+0200
TZNAME:CEST
DTSTART:20250330T010000
END:DAYLIGHT
BEGIN:STANDARD
TZOFFSETFROM:+0200
TZOFFSETTO:+0100
TZNAME:CET
DTSTART:20251026T010000
END:STANDARD
END:VTIMEZONE
BEGIN:VEVENT
DTSTART;VALUE=DATE:20240930
DTEND;VALUE=DATE:20241005
DTSTAMP:20260422T003914
CREATED:20240925T071145Z
LAST-MODIFIED:20240925T071301Z
UID:3101-1727654400-1728086399@bruyas.net
SUMMARY:L'HABITANT DE L'ESCALIER de NATHALIE PAPIN
DESCRIPTION:Pièce de théâtre pour une danseuse (Yvonne Smink)\, une comédienne (Frédérique Bruyas)\, des musiciens (Nicolas Naudet\, Benjamin Flament)\, des lycéens… et un escalier\nMise en scène (Marie Teissier de la compagnie TAIM’)\, Scénographie (Jean-Luc Priano)\n« Chaque marche te donne un secret\, chaque secret te donne envie de continuer\, si tu arrives à la septième marche\, tu trouveras ce que tu trouveras. » Nathalie Papin (L’Ecole des loisirs) \nNathalie Papin nous pose de grandes questions existentielles\, en décrivant le trajet d’une personne adolescente en pleine quête identitaire\, mutation d’une jeune personne de l’enfant à l’adulte.\nAvec L’habitant de l’escalier\, elle nous raconte une ascension de 7 marches\, au terme de laquelle une vie consciente peut commencer. Ce texte a tout d’un conte initiatique\, écrit au départ pour une danseuse. C’est un texte à une voix parlée\, celle de l’habitant\, et un corps en mouvement\, celui de Zénoï. \nEn résidence de création à La Transverse de Corbigny\, L’habitant de l’escalier est un spectacle ados-adultes qui commencera à tourner fin 2025.\nCoproduction Théâtre de la Minoterie\, avec le soutien de La Région Bourgogne Franche comté ( aide à la résidence d’écriture et aide au projet dans le cadre du dispositif développement culturel territorial )\, La compagnie Les Alentours Rêveurs / La Ruche en Mouvement\, La Transverse\, La Bergerie de Soffin\, l’ABC de Dijon.
URL:https://bruyas.net/evenement/lhabitant-de-lescalier-de-nathalie-papin/
LOCATION:LA TRANSVERSE\, 30 Rte de Saint-Saulgé\, CORBIGNY\, 58800\, France
CATEGORIES:Résidence de création
ATTACH;FMTTYPE=image/jpeg:https://bruyas.net/wp-content/uploads/2024/09/Lhabitant-de-lescalier.jpg
END:VEVENT
END:VCALENDAR