BEGIN:VCALENDAR
VERSION:2.0
PRODID:-//Frédérique Bruyas - ECPv6.15.18//NONSGML v1.0//EN
CALSCALE:GREGORIAN
METHOD:PUBLISH
X-WR-CALNAME:Frédérique Bruyas
X-ORIGINAL-URL:https://bruyas.net
X-WR-CALDESC:Évènements pour Frédérique Bruyas
REFRESH-INTERVAL;VALUE=DURATION:PT1H
X-Robots-Tag:noindex
X-PUBLISHED-TTL:PT1H
BEGIN:VTIMEZONE
TZID:Europe/Paris
BEGIN:DAYLIGHT
TZOFFSETFROM:+0100
TZOFFSETTO:+0200
TZNAME:CEST
DTSTART:20240331T010000
END:DAYLIGHT
BEGIN:STANDARD
TZOFFSETFROM:+0200
TZOFFSETTO:+0100
TZNAME:CET
DTSTART:20241027T010000
END:STANDARD
BEGIN:DAYLIGHT
TZOFFSETFROM:+0100
TZOFFSETTO:+0200
TZNAME:CEST
DTSTART:20250330T010000
END:DAYLIGHT
BEGIN:STANDARD
TZOFFSETFROM:+0200
TZOFFSETTO:+0100
TZNAME:CET
DTSTART:20251026T010000
END:STANDARD
BEGIN:DAYLIGHT
TZOFFSETFROM:+0100
TZOFFSETTO:+0200
TZNAME:CEST
DTSTART:20260329T010000
END:DAYLIGHT
BEGIN:STANDARD
TZOFFSETFROM:+0200
TZOFFSETTO:+0100
TZNAME:CET
DTSTART:20261025T010000
END:STANDARD
END:VTIMEZONE
BEGIN:VEVENT
DTSTART;TZID=Europe/Paris:20250127T100000
DTEND;TZID=Europe/Paris:20250201T170000
DTSTAMP:20260421T173550
CREATED:20250119T181354Z
LAST-MODIFIED:20250124T142809Z
UID:3294-1737972000-1738429200@bruyas.net
SUMMARY:L'HABITANT DE L'ESCALIER DE NATHALIE PAPIN
DESCRIPTION:Projet de création 2026\nSpectacle pluridisciplinaire pour une danseuse/acrobate aérienne\, une comédienne\, des musiciens\, des lycéens… et un escalier.\nEquipe de création :\nMetteure en scène\, Marie Teissier\nDanseuse\, Yvonne Smink\nComédienne\, Frédérique Bruyas\nMusiciens\, Nicolas Naudet et Benjamin Flament\nScénographe\, Jean-Luc Priano  \nZenoï\, adolescent(e) est devant l’escalier des sept marches des grands secrets. À la septième marche\, il y a l’habitant\, il n’est pas décidé à l’aider. Elle doit les gravir seule. Mais une fois que la première marche est franchie\, impossible de reculer…\n« Chaque marche te donne un secret\,\nchaque secret te donne envie de continuer\,\nsi tu arrives à la septième marche\, tu trouveras ce que tu trouveras »\nNathalie Papin \nNous serons en résidence de création au Théâtre de la Minoterie de Dijon.\nSortie de résidence\nJeudi 30 janvier à 14h30 et 18h\nà La Minoterie (Dijon)\nen présence de l’autrice \nCoproduction : La Minoterie – Dijon (21)\nAide à la résidence d’écriture Conseil régional de Bourgogne-Franche-Comté\nAvec le soutien de la Cie les alentours rêveurs et de l’Abbaye de Corbigny\, dans le cadre\nde la Ruche en Mouvement\nAide à la résidence : la transverse – Espace de création – Corbigny\nAvec le soutien de l’ADJAC et de la BERGERIE DE SOFFIN
URL:https://bruyas.net/evenement/lhabitant-de-lescalier-de-nathalie-papin-2/
LOCATION:THEATRE DE LA MINOTERIE\, 75 avenue Jean Jaurès\, DIJON\, 21000
CATEGORIES:Résidence de création
END:VEVENT
END:VCALENDAR